BEGIN:VCALENDAR
VERSION:2.0
PRODID:-//Städtische Erich Kästner-Realschule - ECPv6.15.16.1//NONSGML v1.0//EN
CALSCALE:GREGORIAN
METHOD:PUBLISH
X-WR-CALNAME:Städtische Erich Kästner-Realschule
X-ORIGINAL-URL:https://ekr.musin.de
X-WR-CALDESC:Veranstaltungen für Städtische Erich Kästner-Realschule
REFRESH-INTERVAL;VALUE=DURATION:PT1H
X-Robots-Tag:noindex
X-PUBLISHED-TTL:PT1H
BEGIN:VTIMEZONE
TZID:Europe/Berlin
BEGIN:DAYLIGHT
TZOFFSETFROM:+0100
TZOFFSETTO:+0200
TZNAME:CEST
DTSTART:20230326T010000
END:DAYLIGHT
BEGIN:STANDARD
TZOFFSETFROM:+0200
TZOFFSETTO:+0100
TZNAME:CET
DTSTART:20231029T010000
END:STANDARD
BEGIN:DAYLIGHT
TZOFFSETFROM:+0100
TZOFFSETTO:+0200
TZNAME:CEST
DTSTART:20240331T010000
END:DAYLIGHT
BEGIN:STANDARD
TZOFFSETFROM:+0200
TZOFFSETTO:+0100
TZNAME:CET
DTSTART:20241027T010000
END:STANDARD
BEGIN:DAYLIGHT
TZOFFSETFROM:+0100
TZOFFSETTO:+0200
TZNAME:CEST
DTSTART:20250330T010000
END:DAYLIGHT
BEGIN:STANDARD
TZOFFSETFROM:+0200
TZOFFSETTO:+0100
TZNAME:CET
DTSTART:20251026T010000
END:STANDARD
BEGIN:DAYLIGHT
TZOFFSETFROM:+0100
TZOFFSETTO:+0200
TZNAME:CEST
DTSTART:20260329T010000
END:DAYLIGHT
BEGIN:STANDARD
TZOFFSETFROM:+0200
TZOFFSETTO:+0100
TZNAME:CET
DTSTART:20261025T010000
END:STANDARD
BEGIN:DAYLIGHT
TZOFFSETFROM:+0100
TZOFFSETTO:+0200
TZNAME:CEST
DTSTART:20270328T010000
END:DAYLIGHT
BEGIN:STANDARD
TZOFFSETFROM:+0200
TZOFFSETTO:+0100
TZNAME:CET
DTSTART:20271031T010000
END:STANDARD
END:VTIMEZONE
BEGIN:VEVENT
DTSTART;TZID=Europe/Berlin:20260203T190000
DTEND;TZID=Europe/Berlin:20260203T203000
DTSTAMP:20260426T045806
CREATED:20251201T193259Z
LAST-MODIFIED:20251201T193259Z
UID:6695-1770145200-1770150600@ekr.musin.de
SUMMARY:Elterninformationsabend
DESCRIPTION:
URL:https://ekr.musin.de/termine/elterninformationsabend-2/
END:VEVENT
BEGIN:VEVENT
DTSTART;TZID=Europe/Berlin:20251203T160000
DTEND;TZID=Europe/Berlin:20251203T190000
DTSTAMP:20260426T045806
CREATED:20251126T170247Z
LAST-MODIFIED:20251126T170247Z
UID:6689-1764777600-1764788400@ekr.musin.de
SUMMARY:1. Elternsprechtag
DESCRIPTION:
URL:https://ekr.musin.de/termine/1-elternsprechtag-3/
END:VEVENT
BEGIN:VEVENT
DTSTART;VALUE=DATE:20251202
DTEND;VALUE=DATE:20251203
DTSTAMP:20260426T045806
CREATED:20251126T165854Z
LAST-MODIFIED:20251126T165854Z
UID:6687-1764633600-1764719999@ekr.musin.de
SUMMARY:1. Notenbericht
DESCRIPTION:
URL:https://ekr.musin.de/termine/1-notenbericht/
END:VEVENT
BEGIN:VEVENT
DTSTART;VALUE=DATE:20250923
DTEND;VALUE=DATE:20250924
DTSTAMP:20260426T045806
CREATED:20250721T120503Z
LAST-MODIFIED:20250721T120503Z
UID:6617-1758585600-1758671999@ekr.musin.de
SUMMARY:1. Wandertag
DESCRIPTION:
URL:https://ekr.musin.de/termine/1-wandertag/
END:VEVENT
BEGIN:VEVENT
DTSTART;VALUE=DATE:20250919
DTEND;VALUE=DATE:20250920
DTSTAMP:20260426T045806
CREATED:20250721T120438Z
LAST-MODIFIED:20250721T120438Z
UID:6615-1758240000-1758326399@ekr.musin.de
SUMMARY:Klassenfotos
DESCRIPTION:
URL:https://ekr.musin.de/termine/klassenfotos-2/
END:VEVENT
BEGIN:VEVENT
DTSTART;TZID=Europe/Berlin:20250918T183000
DTEND;TZID=Europe/Berlin:20250918T200000
DTSTAMP:20260426T045806
CREATED:20250721T120409Z
LAST-MODIFIED:20250721T120409Z
UID:6613-1758220200-1758225600@ekr.musin.de
SUMMARY:Klassenelternabend
DESCRIPTION:
URL:https://ekr.musin.de/termine/klassenelternabend-3/
END:VEVENT
BEGIN:VEVENT
DTSTART;TZID=Europe/Berlin:20250916T090000
DTEND;TZID=Europe/Berlin:20250916T121500
DTSTAMP:20260426T045806
CREATED:20250701T105139Z
LAST-MODIFIED:20250701T105139Z
UID:6581-1758013200-1758024900@ekr.musin.de
SUMMARY:1. Schultag
DESCRIPTION:
URL:https://ekr.musin.de/termine/1-schultag/
END:VEVENT
BEGIN:VEVENT
DTSTART;VALUE=DATE:20250801
DTEND;VALUE=DATE:20250916
DTSTAMP:20260426T045806
CREATED:20240905T115617Z
LAST-MODIFIED:20240905T115617Z
UID:6297-1754006400-1757980799@ekr.musin.de
SUMMARY:Sommerferien
DESCRIPTION:
URL:https://ekr.musin.de/termine/sommerferien-2/
END:VEVENT
BEGIN:VEVENT
DTSTART;VALUE=DATE:20250609
DTEND;VALUE=DATE:20250621
DTSTAMP:20260426T045806
CREATED:20240905T115539Z
LAST-MODIFIED:20240905T115539Z
UID:6295-1749427200-1750463999@ekr.musin.de
SUMMARY:Pfingstferien
DESCRIPTION:
URL:https://ekr.musin.de/termine/pfingstferien-2/
END:VEVENT
BEGIN:VEVENT
DTSTART;TZID=Europe/Berlin:20250429T160000
DTEND;TZID=Europe/Berlin:20250429T190000
DTSTAMP:20260426T045806
CREATED:20250428T095554Z
LAST-MODIFIED:20250428T095554Z
UID:6562-1745942400-1745953200@ekr.musin.de
SUMMARY:2. Elternsprechtag
DESCRIPTION:
URL:https://ekr.musin.de/termine/2-elternsprechtag-3/
END:VEVENT
BEGIN:VEVENT
DTSTART;VALUE=DATE:20250414
DTEND;VALUE=DATE:20250426
DTSTAMP:20260426T045806
CREATED:20240905T115453Z
LAST-MODIFIED:20240905T115453Z
UID:6293-1744588800-1745625599@ekr.musin.de
SUMMARY:Osterferien
DESCRIPTION:
URL:https://ekr.musin.de/termine/osterferien-2/
END:VEVENT
BEGIN:VEVENT
DTSTART;VALUE=DATE:20250407
DTEND;VALUE=DATE:20250411
DTSTAMP:20260426T045806
CREATED:20241009T121551Z
LAST-MODIFIED:20241009T121551Z
UID:6345-1743984000-1744329599@ekr.musin.de
SUMMARY:Speaking Test 10.Klassen
DESCRIPTION:
URL:https://ekr.musin.de/termine/speaking-test-10-klassen/
END:VEVENT
BEGIN:VEVENT
DTSTART;VALUE=DATE:20250318
DTEND;VALUE=DATE:20250319
DTSTAMP:20260426T045806
CREATED:20241009T121424Z
LAST-MODIFIED:20250310T114101Z
UID:6342-1742256000-1742342399@ekr.musin.de
SUMMARY:Infoabend Wahlpflichtfächergruppen - an der FOS\, Schleißheimer Str. 510
DESCRIPTION:
URL:https://ekr.musin.de/termine/infoabend-wahlpflichtfaechergruppen/
END:VEVENT
BEGIN:VEVENT
DTSTART;VALUE=DATE:20250303
DTEND;VALUE=DATE:20250308
DTSTAMP:20260426T045806
CREATED:20240905T115421Z
LAST-MODIFIED:20240905T115421Z
UID:6291-1740960000-1741391999@ekr.musin.de
SUMMARY:Faschingsferien
DESCRIPTION:
URL:https://ekr.musin.de/termine/faschingsferien-3/
END:VEVENT
BEGIN:VEVENT
DTSTART;VALUE=DATE:20250210
DTEND;VALUE=DATE:20250213
DTSTAMP:20260426T045806
CREATED:20240804T104440Z
LAST-MODIFIED:20240804T104440Z
UID:6281-1739145600-1739404799@ekr.musin.de
SUMMARY:Tierparkprojekt 5. Klasse
DESCRIPTION:
URL:https://ekr.musin.de/termine/tierparkprojekt-5-klasse-2/
END:VEVENT
BEGIN:VEVENT
DTSTART;TZID=Europe/Berlin:20250204T190000
DTEND;TZID=Europe/Berlin:20250204T210000
DTSTAMP:20260426T045806
CREATED:20241009T121259Z
LAST-MODIFIED:20241119T110932Z
UID:6340-1738695600-1738702800@ekr.musin.de
SUMMARY:Elterninfoabend GS an der FOS
DESCRIPTION:
URL:https://ekr.musin.de/termine/elterninfoabend-gs/
LOCATION:Robert Bosch Fachoberschule\, Schleißheimer Str. 510\, München\, 80933
END:VEVENT
BEGIN:VEVENT
DTSTART;VALUE=DATE:20250203
DTEND;VALUE=DATE:20250206
DTSTAMP:20260426T045806
CREATED:20240804T104402Z
LAST-MODIFIED:20240804T104402Z
UID:6279-1738540800-1738799999@ekr.musin.de
SUMMARY:Tierparkprojekt 5. Klasse
DESCRIPTION:
URL:https://ekr.musin.de/termine/tierparkprojekt-5-klasse/
END:VEVENT
BEGIN:VEVENT
DTSTART;VALUE=DATE:20241223
DTEND;VALUE=DATE:20250107
DTSTAMP:20260426T045806
CREATED:20240905T115345Z
LAST-MODIFIED:20240905T115345Z
UID:6289-1734912000-1736207999@ekr.musin.de
SUMMARY:Weihnachtsferien
DESCRIPTION:
URL:https://ekr.musin.de/termine/weihnachtsferien-2/
END:VEVENT
BEGIN:VEVENT
DTSTART;VALUE=DATE:20241204
DTEND;VALUE=DATE:20241205
DTSTAMP:20260426T045806
CREATED:20241009T120854Z
LAST-MODIFIED:20241009T120854Z
UID:6338-1733270400-1733356799@ekr.musin.de
SUMMARY:1. Elternsprechtag
DESCRIPTION:
URL:https://ekr.musin.de/termine/1-elternsprechtag-2/
END:VEVENT
BEGIN:VEVENT
DTSTART;VALUE=DATE:20241028
DTEND;VALUE=DATE:20241102
DTSTAMP:20260426T045806
CREATED:20240905T115304Z
LAST-MODIFIED:20240905T115304Z
UID:6287-1730073600-1730505599@ekr.musin.de
SUMMARY:Herbstferien
DESCRIPTION:
URL:https://ekr.musin.de/termine/herbstferien-2/
END:VEVENT
BEGIN:VEVENT
DTSTART;VALUE=DATE:20240927
DTEND;VALUE=DATE:20240928
DTSTAMP:20260426T045806
CREATED:20240905T115913Z
LAST-MODIFIED:20240905T115913Z
UID:6303-1727395200-1727481599@ekr.musin.de
SUMMARY:Jahrgangsstufentest Mathe 6. Klassen
DESCRIPTION:
URL:https://ekr.musin.de/termine/jahrgangsstufentest-mathe-6-klassen/
END:VEVENT
BEGIN:VEVENT
DTSTART;VALUE=DATE:20240926
DTEND;VALUE=DATE:20240927
DTSTAMP:20260426T045806
CREATED:20240905T115819Z
LAST-MODIFIED:20240905T115819Z
UID:6301-1727308800-1727395199@ekr.musin.de
SUMMARY:Jahrgangsstufentest Englisch 7. Klassen
DESCRIPTION:
URL:https://ekr.musin.de/termine/jahrgangsstufentest-englisch-7-klassen/
END:VEVENT
BEGIN:VEVENT
DTSTART;VALUE=DATE:20240925
DTEND;VALUE=DATE:20240926
DTSTAMP:20260426T045806
CREATED:20240905T115744Z
LAST-MODIFIED:20240905T115744Z
UID:6299-1727222400-1727308799@ekr.musin.de
SUMMARY:Jahrgangsstufentest Deutsch 6. Klasse
DESCRIPTION:
URL:https://ekr.musin.de/termine/jahrgangsstufentest-deutsch-6-klasse/
END:VEVENT
BEGIN:VEVENT
DTSTART;VALUE=DATE:20240924
DTEND;VALUE=DATE:20240925
DTSTAMP:20260426T045806
CREATED:20240801T080921Z
LAST-MODIFIED:20240801T080921Z
UID:6276-1727136000-1727222399@ekr.musin.de
SUMMARY:Wandertag
DESCRIPTION:
URL:https://ekr.musin.de/termine/wandertag-3/
END:VEVENT
BEGIN:VEVENT
DTSTART;VALUE=DATE:20240920
DTEND;VALUE=DATE:20240921
DTSTAMP:20260426T045806
CREATED:20240912T115920Z
LAST-MODIFIED:20240912T115920Z
UID:6312-1726790400-1726876799@ekr.musin.de
SUMMARY:Klassenfotos
DESCRIPTION:
URL:https://ekr.musin.de/termine/klassenfotos/
END:VEVENT
BEGIN:VEVENT
DTSTART;TZID=Europe/Berlin:20240912T183000
DTEND;TZID=Europe/Berlin:20240912T200000
DTSTAMP:20260426T045806
CREATED:20240801T080849Z
LAST-MODIFIED:20240801T080849Z
UID:6274-1726165800-1726171200@ekr.musin.de
SUMMARY:Klassenelternabend
DESCRIPTION:
URL:https://ekr.musin.de/termine/klassenelternabend/
END:VEVENT
BEGIN:VEVENT
DTSTART;TZID=Europe/Berlin:20240910T090000
DTEND;TZID=Europe/Berlin:20240910T121500
DTSTAMP:20260426T045806
CREATED:20240801T080729Z
LAST-MODIFIED:20240801T080741Z
UID:6272-1725958800-1725970500@ekr.musin.de
SUMMARY:Schulanfang
DESCRIPTION:
URL:https://ekr.musin.de/termine/schulanfang/
END:VEVENT
BEGIN:VEVENT
DTSTART;VALUE=DATE:20240905
DTEND;VALUE=DATE:20240907
DTSTAMP:20260426T045806
CREATED:20240801T080622Z
LAST-MODIFIED:20240801T080622Z
UID:6269-1725494400-1725667199@ekr.musin.de
SUMMARY:Aufnahme- und Nachprüfungen
DESCRIPTION:
URL:https://ekr.musin.de/termine/aufnahme-und-nachpruefungen/
END:VEVENT
BEGIN:VEVENT
DTSTART;VALUE=DATE:20240729
DTEND;VALUE=DATE:20240910
DTSTAMP:20260426T045806
CREATED:20230914T100843Z
LAST-MODIFIED:20230914T100843Z
UID:5960-1722211200-1725926399@ekr.musin.de
SUMMARY:Sommerferien
DESCRIPTION:
URL:https://ekr.musin.de/termine/sommerferien/
END:VEVENT
BEGIN:VEVENT
DTSTART;VALUE=DATE:20240726
DTEND;VALUE=DATE:20240727
DTSTAMP:20260426T045806
CREATED:20230914T100805Z
LAST-MODIFIED:20230914T100805Z
UID:5958-1721952000-1722038399@ekr.musin.de
SUMMARY:Jahreszeugnis
DESCRIPTION:
URL:https://ekr.musin.de/termine/jahreszeugnis-2/
END:VEVENT
END:VCALENDAR